Workbook
Name _ftn1: Introduzione!$B$14
Name _ftnref1: Introduzione!$D$8
Name _Hlk185257654: Introduzione!$B$2
Name RSO5.1: Menu!$D$2:$D$8
Name RSO5.2: Menu!$E$2:$E$6

Sheet Introduzione
B1: ISTRUZIONI
B2: Questa scheda non è modificabile, ma riporta in automatico alcune informazioni inserite nella scheda anagrafica.
B3: Si chiede di compilare le schede in successione: Anagrafica, Settore di intervento, Fase di screening (se richiesto) e
B4: Misure di adattamento (se richiesto)
A8: Linee guida per l’applicazione della Verifica climatica
A10: PR Liguria FESR 2021-2027
A11: OP 2 – un'Europa più verde
A18: ="Soggetto proponente: "&Anagrafica!B3 -> Soggetto proponente:
A19: ="Comune di "&Anagrafica!B4 -> Comune di
A20: ="Codice locale progetto: "&Anagrafica!B5 -> Codice locale progetto:
A21: ="Denominazione operazione: "&Anagrafica!B6 -> Denominazione operazione:
A22: ="CUP: "&Anagrafica!B7 -> CUP:
A24: ="Data: "&Anagrafica!B8 -> Data:
A25: ="Referente: "&Anagrafica!B9 -> Referente:

Sheet Anagrafica
A1: ANAGRAFICA DELL'INTERVENTO | B1: SCHEDA 1
A2: In questa scheda sono richieste le informazioni che riguardano la localizzazione e le principali caratteristiche dell'intervento
A3: Soggetto proponente
A4: Comune di
A5: Codice locale progetto
A6: Denominazione operazione
A7: CUP
A8: Data di compilazione
A9: Referente
A12: INFO UTILI
A14: Localizzazione georeferenziata (longitudine e latitudine)
A15: Via e numero civico
A16: Riferimenti catastali
... A37: Necessità riscaldamento/raffrescamento (laddove pertinente)

Sheet Settore di intervento
B1: SETTORE DI INTERVENTO | C1: SCHEDA 2
B3: L’Azione 2.1.1 è associata al settore di intervento 045-Rinnovo di infrastrutture pubbliche al fine dell'efficienza energetica o misure relative all'efficienza energetica per tali infrastrutture, progetti dimostrativi e misure di sostegno conformemente ai criteri di efficienza energetica. Per questo settore di intervento si richiede di effettuare la sola verifica climatica legata agli aspetti dell’adattamento.
B21: Per gli interventi di ristrutturazione di edifici, la verifica climatica è necessaria qualora si tratti di "ristrutturazione importante": a) per gli interventi di efficienza energetica, in coerenza con quanto definito nella Direttiva 1275/2024 sulla prestazione energetica degli edifici, è da considerarsi "ristrutturazione importante" la ristrutturazione che riguarda più del 25% della superficie dell'involucro dell'edificio; b) per i progetti che prevedono sia interventi di efficientamento energetico sia altri interventi strutturali/funzionali, è da considerarsi "ristrutturazione importante" il progetto che interessi almeno il 25% del volume complessivo dell'edificio
B90: * N.B.: la verifica di NEUTRALITÀ CLIMATICA (MITIGAZIONE dei cambiamenti climatici) è necessaria SOLO nel caso di realizzazione di centrali fotovoltaiche. Allo stato attuale il PR Liguria FESR 2021-2027 non ne prevede la realizzazione

Sheet Fase di screening
A1: FASE DI SCREENING | H1: SCHEDA 3
A2: Per procedere nella verifica di resilienza, il primo passaggio è rappresentato dalla fase di screening, che consiste in: STEP 1) un’analisi dell’esposizione: attribuire il livello di ESPOSIZIONE dell’infrastruttura dal menu a tendina (alto, medio o basso), per ciascun pericolo climatico, in base alla sua localizzazione (area geografica) - indipendentemente dalla tipologia di progetto. Considerto che si deve tener conto sia della situazione attuale sia di quella futura, si deve scegliere il livello peggiore tra i due. Per i pericoli climatici significativi prioritari ondate di calore, siccità, forti precipitazioni selezionare il livello già proposto nell'Allegato 2 delle "Linee guida per l’applicazione della Verifica climatica"; Per i pericoli climatici significativi prioritari inondazione e frana selezionare il livello sulla base di quanto discende dal PGRA – Piano Gestione Rischio Alluvioni e dal PAI - Piano Assetto Idrogeologico vigenti come indicato nelle "Linee guida per l’applicazione della Verifica climatica". Per i pericoli climatici significativi non prioritari, nell'Allegato 3 delle "Linee guida per l’applicazione della Verifica climatica" viene proposta una lista (non esaustiva) di fonti consultabili. STEP 2) un’analisi della sensibilità: attribuire il livello di SENSIBILITÀ dell’infrastruttura dal menu a tendina (alto, medio o basso), per ciascun pericolo climatico, in base alle sue caratteristiche, alle componenti progettuali e alle attività in essa previste, soggette a eventuali impatti negativi (danni e/o malfunzionamenti) - indipendentemente dalla sua localizzazione. Esaminare l’area di intervento e le caratteristiche tecno morfologiche dell'edificio o dell’infrastruttura; le principali funzioni; le componenti tecnico edilizie; le componenti botanico-vegetazionali; i materiali; STEP 3) la combinazione dei risultati delle due analisi sopra citate permette di valutare la vulnerabilità del progetto ai pericoli climatici. Come risultato, nella parte conclusiva della scheda, si valorizzano in automatico i soli pericoli con livello di VULNERABILITÀ ALTA o MEDIO/ALTA, per i quali è necessario procedere con l'individuazione delle misure di addattamento, come indicato nella scheda seguente "Misure di adattamento".
B4: STEP 1) ESPOSIZIONE | F4: STEP 2) SENSIBILITÀ
B5: Per ogni pericolo climatico assegnare il livello, sulla base di dati desunti da fonti ufficiali e verificate (il livello di esposizione NON è discrezionale). Nel campo Fonte occorre riportare le fonti utilizzate | F5: Per ogni pericolo climatico assegnare il livello, tenuto conto delle diverse componenti di progetto e delle soluzioni tecniche adottate capaci di limitare potenziali effetti negativi. Nel campo Motivazione va spiegato come le soluzioni tecniche adottate giustificano il livello opzionato di sensibilità al singolo pericolo climatico
A7: Pericoli climatici significativi prioritari | D7: Fonte | H7: Motivazione
A9: Ondata di calore
A10: Siccità
A11: Forti precipitazioni (pioggia, grandine, neve/ghiaccio)
A12: Inondazione (costiera, fluviale, pluviale, di falda)
A13: Frana
A15: Pericoli climatici significativi non prioritari
A17: Temperatura
A18: Cambiamento della temperatura (aria, acque dolci, acque marine)
A19: Stress termico
A20: Variabilità della temperatura
A21: Ondata di freddo/gelata
A22: Incendio di incolto
... A46: Nel seguito sono indicati i pericoli climatici con vulnerabilità ALTA o MEDIO/ALTA per i quali è necessario procedere con un'analisi di dettaglio
A47: Temperatura | B47: =IF(OR(AND(B18="Medio",F18="Alto"),AND(B18="Alto",F18="Medio"),AND(B18="Alto",F18="Alto")),A18&CHAR(10),"")& IF(OR(AND(B19="Medio",F19="Alto"),AND(B19="Alto",F19="Medio"),AND(B19="Alto",F19="Alto")),A19&CHAR(10),"")& IF(OR(AND(B20="Medio",F20="Alto"),AND(B20="Alto",F20="Medio"),AND(B20="Alto",F20="Alto")),A20&CHAR(10),"")& IF(OR(AND(B9="Medio",F9="Alto"),AND(B9="Alto",F9="Medio"),AND(B9="Alto",F9="Alto")),A9&CHAR(10),"")& IF(OR(AND(B21="Medio",F21="Alto"),AND(B21="Alto",F21="Medio"),AND(B21="Alto",F21="Alto")),A21&CHAR(10),"")& IF(OR(AND(B22="Medio",F22="Alto"),AND(B22="Alto",F22="Medio"),AND(B22="Alto",F22="Alto")),A22&CHAR(10),"")
A48: Vento | B48: =IF(OR(AND(B25="Medio",F25="Alto"),AND(B25="Alto",F25="Medio"),AND(B25="Alto",F25="Alto")),A25&CHAR(10),"")& IF(OR(AND(B26="Medio",F26="Alto"),AND(B26="Alto",F26="Medio"),AND(B26="Alto",F26="Alto")),A26&CHAR(10),"")& IF(OR(AND(B27="Medio",F27="Alto"),AND(B27="Alto",F27="Medio"),AND(B27="Alto",F27="Alto")),A27,"")
A49: Acque | B49: =IF(OR(AND(B30="Medio",F30="Alto"),AND(B30="Alto",F30="Medio"),AND(B30="Alto",F30="Alto")),A30&CHAR(10),"")& IF(OR(AND(B31="Medio",F31="Alto"),AND(B31="Alto",F31="Medio"),AND(B31="Alto",F31="Alto")),A31&CHAR(10),"")& IF(OR(AND(B32="Medio",F32="Alto"),AND(B32="Alto",F32="Medio"),AND(B32="Alto",F32="Alto")),A32&CHAR(10),"")& IF(OR(AND(B33="Medio",F33="Alto"),AND(B33="Alto",F33="Medio"),AND(B33="Alto",F33="Alto")),A33&CHAR(10),"")& IF(OR(AND(B34="Medio",F34="Alto"),AND(B34="Alto",F34="Medio"),AND(B34="Alto",F34="Alto")),A34&CHAR(10),"")& IF(OR(AND(B10="Medio",F10="Alto"),AND(B10="Alto",F10="Medio"),AND(B10="Alto",F10="Alto")),A10&CHAR(10),"")& IF(OR(AND(B11="Medio",F11="Alto"),AND(B11="Alto",F11="Medio"),AND(B11="Alto",F11="Alto")),A11&CHAR(10),"")& IF(OR(AND(B12="Medio",F12="Alto"),AND(B12="Alto",F12="Medio"),AND(B12="Alto",F12="Alto")),A12&CHAR(10),"")
A50: Massa solida | B50: =IF(OR(AND(B37="Medio",F37="Alto"),AND(B37="Alto",F37="Medio"),AND(B37="Alto",F37="Alto")),A37&CHAR(10),"")& IF(OR(AND(B38="Medio",F38="Alto"),AND(B38="Alto",F38="Medio"),AND(B38="Alto",F38="Alto")),A38&CHAR(10),"")& IF(OR(AND(B39="Medio",F39="Alto"),AND(B39="Alto",F39="Medio"),AND(B39="Alto",F39="Alto")),A39&CHAR(10),"")& IF(OR(AND(B40="Medio",F40="Alto"),AND(B40="Alto",F40="Medio"),AND(B40="Alto",F40="Alto")),A40&CHAR(10),"")& IF(OR(AND(B41="Medio",F41="Alto"),AND(B41="Alto",F41="Medio"),AND(B41="Alto",F41="Alto")),A41&CHAR(10),"")& IF(OR(AND(B13="Medio",F13="Alto"),AND(B13="Alto",F13="Medio"),AND(B13="Alto",F13="Alto")),A13&CHAR(10),"")& IF(OR(AND(B42="Medio",F42="Alto"),AND(B42="Alto",F42="Medio"),AND(B42="Alto",F42="Alto")),A42&CHAR(10),"")

Sheet Misure di adattamento
A1: MISURE DI ADATTAMENTO | E1: SCHEDA 4
A2: Le misure di adattamento rappresentano un passaggio essenziale per garantire la resilienza climatica dei progetti che, in fase di screening, risultano vulnerabili con un grado medio-alto o alto rispetto ai pericoli climatici identificati. Nel seguito, oltre ai pericoli prioritari, sono indicati i pericoli per i quali si è riscontrata una vulnerabilità almeno medio-alta per i quali, pertanto, è necessario individuare almeno una misura di adattamento tra quelle presenti nei menu a tendina (se disponibili) oppure indicarla in "Altra misura" .
A5: Pericoli prioritari | B5: Misura 1 | C5: Misura 2 opzionale | D5: Misura 3 opzionale | E5: Altra misura
A6: =IF(OR(AND('Fase di screening'!B9="Medio",'Fase di screening'!F9="Alto"),AND('Fase di screening'!B9="Alto",'Fase di screening'!F9="Medio"),AND('Fase di screening'!B9="Alto",'Fase di screening'!F9="Alto")),'Fase di screening'!A9,"")
A7: =IF(OR(AND('Fase di screening'!B10="Medio",'Fase di screening'!F10="Alto"),AND('Fase di screening'!B10="Alto",'Fase di screening'!F10="Medio"),AND('Fase di screening'!B10="Alto",'Fase di screening'!F10="Alto")),'Fase di screening'!A10,"")
A8: =IF(OR(AND('Fase di screening'!B11="Medio",'Fase di screening'!F11="Alto"),AND('Fase di screening'!B11="Alto",'Fase di screening'!F11="Medio"),AND('Fase di screening'!B11="Alto",'Fase di screening'!F11="Alto")),'Fase di screening'!A11,"")
A9: =IF(OR(AND('Fase di screening'!B12="Medio",'Fase di screening'!F12="Alto"),AND('Fase di screening'!B12="Alto",'Fase di screening'!F12="Medio"),AND('Fase di screening'!B12="Alto",'Fase di screening'!F12="Alto")),'Fase di screening'!A12,"")
A10: =IF(OR(AND('Fase di screening'!B13="Medio",'Fase di screening'!F13="Alto"),AND('Fase di screening'!B13="Alto",'Fase di screening'!F13="Medio"),AND('Fase di screening'!B13="Alto",'Fase di screening'!F13="Alto")),'Fase di screening'!A13,"")
A12: Altri pericoli climatici
A14: Temperatura
A15: =IF(OR(AND('Fase di screening'!B18="Medio",'Fase di screening'!F18="Alto"),AND('Fase di screening'!B18="Alto",'Fase di screening'!F18="Medio"),AND('Fase di screening'!B18="Alto",'Fase di screening'!F18="Alto")),'Fase di screening'!A18,"")
A16: =IF(OR(AND('Fase di screening'!B19="Medio",'Fase di screening'!F19="Alto"),AND('Fase di screening'!B19="Alto",'Fase di screening'!F19="Medio"),AND('Fase di screening'!B19="Alto",'Fase di screening'!F19="Alto")),'Fase di screening'!A19,"")
A17: =IF(OR(AND('Fase di screening'!B20="Medio",'Fase di screening'!F20="Alto"),AND('Fase di screening'!B20="Alto",'Fase di screening'!F20="Medio"),AND('Fase di screening'!B20="Alto",'Fase di screening'!F20="Alto")),'Fase di screening'!A20,"")
A18: =IF(OR(AND('Fase di screening'!B21="Medio",'Fase di screening'!F21="Alto"),AND('Fase di screening'!B21="Alto",'Fase di screening'!F21="Medio"),AND('Fase di screening'!B21="Alto",'Fase di screening'!F21="Alto")),'Fase di screening'!A21,"")
A19: =IF(OR(AND('Fase di screening'!B22="Medio",'Fase di screening'!F22="Alto"),AND('Fase di screening'!B22="Alto",'Fase di screening'!F22="Medio"),AND('Fase di screening'!B22="Alto",'Fase di screening'!F22="Alto")),'Fase di screening'!A22,"")
A21: Vento
A22: =IF(OR(AND('Fase di screening'!B25="Medio",'Fase di screening'!F25="Alto"),AND('Fase di screening'!B25="Alto",'Fase di screening'!F25="Medio"),AND('Fase di screening'!B25="Alto",'Fase di screening'!F25="Alto")),'Fase di screening'!A25,"")
A23: =IF(OR(AND('Fase di screening'!B26="Medio",'Fase di screening'!F26="Alto"),AND('Fase di screening'!B26="Alto",'Fase di screening'!F26="Medio"),AND('Fase di screening'!B26="Alto",'Fase di screening'!F26="Alto")),'Fase di screening'!A26,"")
A24: =IF(OR(AND('Fase di screening'!B27="Medio",'Fase di screening'!F27="Alto"),AND('Fase di screening'!B27="Alto",'Fase di screening'!F27="Medio"),AND('Fase di screening'!B27="Alto",'Fase di screening'!F27="Alto")),'Fase di screening'!A27,"")
A26: Acque
A27: =IF(OR(AND('Fase di screening'!B30="Medio",'Fase di screening'!F30="Alto"),AND('Fase di screening'!B30="Alto",'Fase di screening'!F30="Medio"),AND('Fase di screening'!B30="Alto",'Fase di screening'!F30="Alto")),'Fase di screening'!A30,"")
A28: =IF(OR(AND('Fase di screening'!B31="Medio",'Fase di screening'!F31="Alto"),AND('Fase di screening'!B31="Alto",'Fase di screening'!F31="Medio"),AND('Fase di screening'!B31="Alto",'Fase di screening'!F31="Alto")),'Fase di screening'!A31,"")
A29: =IF(OR(AND('Fase di screening'!B32="Medio",'Fase di screening'!F32="Alto"),AND('Fase di screening'!B32="Alto",'Fase di screening'!F32="Medio"),AND('Fase di screening'!B32="Alto",'Fase di screening'!F32="Alto")),'Fase di screening'!A32,"")
A30: =IF(OR(AND('Fase di screening'!B33="Medio",'Fase di screening'!F33="Alto"),AND('Fase di screening'!B33="Alto",'Fase di screening'!F33="Medio"),AND('Fase di screening'!B33="Alto",'Fase di screening'!F33="Alto")),'Fase di screening'!A33,"")
A31: =IF(OR(AND('Fase di screening'!B34="Medio",'Fase di screening'!F34="Alto"),AND('Fase di screening'!B34="Alto",'Fase di screening'!F34="Medio"),AND('Fase di screening'!B34="Alto",'Fase di screening'!F34="Alto")),'Fase di screening'!A34,"")
A33: Massa solida
A34: =IF(OR(AND('Fase di screening'!B37="Medio",'Fase di screening'!F37="Alto"),AND('Fase di screening'!B37="Alto",'Fase di screening'!F37="Medio"),AND('Fase di screening'!B37="Alto",'Fase di screening'!F37="Alto")),'Fase di screening'!A37,"")
A35: =IF(OR(AND('Fase di screening'!B38="Medio",'Fase di screening'!F38="Alto"),AND('Fase di screening'!B38="Alto",'Fase di screening'!F38="Medio"),AND('Fase di screening'!B38="Alto",'Fase di screening'!F38="Alto")),'Fase di screening'!A38,"")
A36: =IF(OR(AND('Fase di screening'!B39="Medio",'Fase di screening'!F39="Alto"),AND('Fase di screening'!B39="Alto",'Fase di screening'!F39="Medio"),AND('Fase di screening'!B39="Alto",'Fase di screening'!F39="Alto")),'Fase di screening'!A39,"")
A37: =IF(OR(AND('Fase di screening'!B40="Medio",'Fase di screening'!F40="Alto"),AND('Fase di screening'!B40="Alto",'Fase di screening'!F40="Medio"),AND('Fase di screening'!B40="Alto",'Fase di screening'!F40="Alto")),'Fase di screening'!A40,"")
A38: =IF(OR(AND('Fase di screening'!B41="Medio",'Fase di screening'!F41="Alto"),AND('Fase di screening'!B41="Alto",'Fase di screening'!F41="Medio"),AND('Fase di screening'!B41="Alto",'Fase di screening'!F41="Alto")),'Fase di screening'!A41,"")
A39: =IF(OR(AND('Fase di screening'!B42="Medio",'Fase di screening'!F42="Alto"),AND('Fase di screening'!B42="Alto",'Fase di screening'!F42="Medio"),AND('Fase di screening'!B42="Alto",'Fase di screening'!F42="Alto")),'Fase di screening'!A42,"")

Sheet Menu
A1: Opzioni | B1: Livelli | C1: RSO | D1: RSO2.1 | E1: RSO2.2 | F1: RSO2.6 | G1: MisureOndata | H1: MisureSiccità | I1: MisurePrecipitazione | J1: MisureInondazione | K1: MisureFrana | L1: MisureTempeste | M1: Corsoacqua | N1: Pericolositàfrana | O1: Pericolositàinondazioni
A2: Sì | B2: Non pertinente | C2: RSO2.1 | D2: 45-Rinnovo di infrastrutture pubbliche al fine dell'efficienza energetica o misure relative all'efficienza energetica per tali infrastrutture, progetti dimostrativi e misure di sostegno conformemente ai criteri di efficienza energetica | E2: 21-Sviluppo dell'attività delle PMI e internazionalizzazione, compresi gli investimenti produttivi | G2: Ombreggiatura esterna | H2: Impianti e attrezzature efficienti dal punto di vista idrico | I2: Tetti verdi - Green Roof | J2: Barriere antiallagamento temporanee (scudi antiallagamento, sacchi di sabbia, barriere gonfiabili e dispiegabili) | K2: Nature Based Solutions - Interventi antierosivi (semine, stuoie organiche, ecc.) | L2: Ridurre le dimensioni e aumentare la frequenza dei fissaggi di tegole, ardesie e colmi. | M2: sopra | N2: Pericolosità da frana moderata P1 | O2: Superficie a pericolosità idraulica nulla o bassa P0-P1
A3: No | B3: Alto | C3: RSO2.2 | D3: 46-Sostegno ai soggetti che forniscono servizi che contribuiscono all'economia a basse emissioni di carbonio e alla resilienza ai cambiamenti climatici, comprese le misure di sensibilizzazione | E3: 44-Rinnovo di infrastrutture pubbliche al fine dell'efficienza energetica o misure relative all'efficienza energetica per tali infrastrutture, progetti dimostrativi e misure di sostegno | G3: Vegetazione alta sui lati esposti al sole dell'edificio o stabilimento | H3: Fonte d'acqua in loco, come ad esempio un deposito d'acqua in loco in grado di fornire acqua per tre o quattro giorni | I3: Tetti a falde | J3: Barriere antiallagamento permanenti (barriere automatiche, muri antiallagamento, barriere retrattili) | K3: Nature Based Solutions - Interventi stabilizzanti (gradonate vive, fascinate vive, viminate vive, ecc.) | L3: Sistema di drenaggio del tetto | M3: in prossimità | N3: Pericolosità da frana media P2 | O3: Superficie a pericolosità idraulica media P2
B4: Medio | C4: RSO2.6 | D4: 60-Misure di adattamento ai cambiamenti climatici, prevenzione e gestione dei rischi connessi al clima: altro, ad es. tempeste e siccità (comprese le azioni di sensibilizzazione, la protezione civile e i sistemi di gestione delle catastrofi, le infrastrutture e gli approcci basati sugli ecosistemi) | E4: 48-Energia rinnovabile: solare | G4: Tetti verdi - Green Roof | H4: Raccolta di acqua piovana | I4: Ispezione e pulizia dello scarico del tetto, delle grondaie e dei pluviali, e della neve | J4: Materiali resistenti all'acqua | K4: Regimazione delle acque | L4: Tetto a padiglione - Hip-roof | M4: non in prossimità | N4: Pericolosità da frana elevata e molto elevata P3-P4 | O4: Superficie a pericolosità idraulica elevata P3
B5: Basso | D5: 61-Prevenzione e gestione dei rischi naturali non connessi al clima (ad es. terremoti) e dei rischi collegati alle attività umane (ad es. Incidenti tecnologici), comprese le azioni di sensibilizzazione, la protezione civile e i sistemi di gestione delle catastrofi, le infrastrutture e gli approcci basati sugli ecosistemi | E5: 79-Protezione della natura e della biodiversità, patrimonio e risorse naturali, infrastrutture verdi e blu | G5: Migliorare la ventilazione dell'edificio o dello stabilimento | H5: Riciclaggio delle acque grigie | I5: Canalette di infiltrazione | J5: Zone di rispetto intorno all'infrastruttura | K5: Nature Based Solutions - Interventi combinati di consolidamento (palificate vive, grate vive, terre verdi rinforzate, ecc.) | L5: Parafulmini
D6: 79-Protezione della natura e della biodiversità, patrimonio e risorse naturali, infrastrutture verdi e blu | E6: 167-Protezione, sviluppo e promozione del patrimonio naturale e dell'ecoturismo diversi dai siti Natura 2000 | G6: Materiali chiari e riflettenti su tetti, pareti, tende e tapparelle | H6: Cattura e riutilizzo della condensa delle unità di trattamento dell'aria - Air-handling unit (AHU) | I6: Serramenti antigrandine | J6: Eseguire uno studio del terreno e controllare il livello di umidità del suolo. | K6: Rinforzo strutturale (rinforzo orizzontale, verticale e diagonale) | L6: Discontinuità fisica tra il tetto dell'infrastruttura e un'estensione (terrazza coperta, veranda, patio)
D7: 166-Protezione, sviluppo e promozione del patrimonio culturale e dei servizi culturali | G7: Facciate verdi - Green Facades | I7: Disconnessione del sistema fognario dalle acque piovane | J7: Struttura sopraelevata | K7: Interventi di ancoraggio | L7: Sporgenze brevi
D8: 168-Riqualificazione materiale e sicurezza degli spazi pubblici | G8: Isolamento di pareti, finestre e tetti | I8: Posizionamento di lavandini/toilette al di sopra del livello di inondazione | J8: Sistema di drenaggio intorno all'infrastruttura | L8: Favorire siepi e arbusti intorno alla struttura
G9: Orientamento dell'edificio lontano dall'irraggiamento solare diretto, per contrastare i guadagni solari | I9: Rete di drenaggio dimensionata in base alle proiezioni di deflusso future | L9: Sigillare i giunti delle finestre
G10: Impianti fotovoltaici sul tetto | I10: Tetti blu - Blue Roof | L10: Ganci antitempesta per fissare le finestre
G11: Tetti aggettanti e verande | I11: Tetti blu-verdi | L11: Forti connessioni tra gli elementi edilizi esterni della struttura
L12: Favorire le forme aerodinamiche
L13: Superfici del tetto a basso attrito, come i tetti in acciaio
L14: Guaina per rinforzare le pareti
L15: Controventature trasversali
L16: Pannelli solari resistenti agli urti
L17: Sistemi di rivestimento
L18: Vetri resistenti agli urti per finestre e porte
L19: Installazione di generatori di emergenza
